BEGIN:VCALENDAR
VERSION:2.0
PRODID:-//Kräuterpädagogen Baden-Württemberg - ECPv6.15.20//NONSGML v1.0//EN
CALSCALE:GREGORIAN
METHOD:PUBLISH
X-ORIGINAL-URL:https://kraeuter-bw.de
X-WR-CALDESC:Veranstaltungen für Kräuterpädagogen Baden-Württemberg
REFRESH-INTERVAL;VALUE=DURATION:PT1H
X-Robots-Tag:noindex
X-PUBLISHED-TTL:PT1H
BEGIN:VTIMEZONE
TZID:Europe/Berlin
BEGIN:DAYLIGHT
TZOFFSETFROM:+0100
TZOFFSETTO:+0200
TZNAME:CEST
DTSTART:20250330T010000
END:DAYLIGHT
BEGIN:STANDARD
TZOFFSETFROM:+0200
TZOFFSETTO:+0100
TZNAME:CET
DTSTART:20251026T010000
END:STANDARD
BEGIN:DAYLIGHT
TZOFFSETFROM:+0100
TZOFFSETTO:+0200
TZNAME:CEST
DTSTART:20260329T010000
END:DAYLIGHT
BEGIN:STANDARD
TZOFFSETFROM:+0200
TZOFFSETTO:+0100
TZNAME:CET
DTSTART:20261025T010000
END:STANDARD
BEGIN:DAYLIGHT
TZOFFSETFROM:+0100
TZOFFSETTO:+0200
TZNAME:CEST
DTSTART:20270328T010000
END:DAYLIGHT
BEGIN:STANDARD
TZOFFSETFROM:+0200
TZOFFSETTO:+0100
TZNAME:CET
DTSTART:20271031T010000
END:STANDARD
END:VTIMEZONE
BEGIN:VEVENT
DTSTART;TZID=Europe/Berlin:20260530T140000
DTEND;TZID=Europe/Berlin:20260530T173000
DTSTAMP:20260423T152436
CREATED:20260108T153508Z
LAST-MODIFIED:20260108T154028Z
UID:4363-1780149600-1780162200@kraeuter-bw.de
SUMMARY:Biblische Kräuterschätze in Meersburg\, 88709 Meersburg
DESCRIPTION:Grüne Kraftquellen entdecken und genießen. Dauer: 14.00 – 17.30 Uhr. Strecke: 1\,5 km und 70 Höhenmeter. Treffpunkt: Bibel- und Kräutergarten\, Bibelgalerie Meersburg. Kirchstr. 4\, 88709 Meersburg. Kosten: 30 Euro pro Person für die geführte Kräutertour mit Kräuterpädagogin Elke Hermannsdorfer\, abschließende Einkehr beim Winzerverein Meersburg auf ein Glas Wein\, samt biblischen Fingerfood-Spezialitäten von Thomas Hermannsdorfer.\nBezahlung per Überweisung\, Kontoverbindung wird bei der Anmeldung bekannt gegeben. Anmeldung: Tourist-Information Meersburg\, \nTel.: +49(0)7532 – 440 400\nE-Mail: info@meersburg.de\nwww.kirchenerlebnis-bodensee.de
URL:https://kraeuter-bw.de/veranstaltungen/biblische-kraeuterschaetze-in-meersburg-88709-meersburg/
LOCATION:Bibelgalerie Meersburg\, Kirchstrasse 4\, Meersburg\, 88709
CATEGORIES:Kräuterführung/-spaziergang
ORGANIZER;CN="Elke Hermannsdorfer":MAILTO:info@wildkraeuter-erlebnisse.de
END:VEVENT
END:VCALENDAR