BEGIN:VCALENDAR
VERSION:2.0
PRODID:-//Kräuterpädagogen Baden-Württemberg - ECPv6.15.20//NONSGML v1.0//EN
CALSCALE:GREGORIAN
METHOD:PUBLISH
X-ORIGINAL-URL:https://kraeuter-bw.de
X-WR-CALDESC:Veranstaltungen für Kräuterpädagogen Baden-Württemberg
REFRESH-INTERVAL;VALUE=DURATION:PT1H
X-Robots-Tag:noindex
X-PUBLISHED-TTL:PT1H
BEGIN:VTIMEZONE
TZID:Europe/Berlin
BEGIN:DAYLIGHT
TZOFFSETFROM:+0100
TZOFFSETTO:+0200
TZNAME:CEST
DTSTART:20250330T010000
END:DAYLIGHT
BEGIN:STANDARD
TZOFFSETFROM:+0200
TZOFFSETTO:+0100
TZNAME:CET
DTSTART:20251026T010000
END:STANDARD
BEGIN:DAYLIGHT
TZOFFSETFROM:+0100
TZOFFSETTO:+0200
TZNAME:CEST
DTSTART:20260329T010000
END:DAYLIGHT
BEGIN:STANDARD
TZOFFSETFROM:+0200
TZOFFSETTO:+0100
TZNAME:CET
DTSTART:20261025T010000
END:STANDARD
BEGIN:DAYLIGHT
TZOFFSETFROM:+0100
TZOFFSETTO:+0200
TZNAME:CEST
DTSTART:20270328T010000
END:DAYLIGHT
BEGIN:STANDARD
TZOFFSETFROM:+0200
TZOFFSETTO:+0100
TZNAME:CET
DTSTART:20271031T010000
END:STANDARD
END:VTIMEZONE
BEGIN:VEVENT
DTSTART;TZID=Europe/Berlin:20260506T110000
DTEND;TZID=Europe/Berlin:20260506T120000
DTSTAMP:20260424T190808
CREATED:20260108T155853Z
LAST-MODIFIED:20260108T155853Z
UID:4390-1778065200-1778068800@kraeuter-bw.de
SUMMARY:Bibel-und Kräutergarten der Bibelgalerie\, 88709 Meersburg
DESCRIPTION:Elke Hermannsdorfer\, Kräuterpädagogin BNE erläutert die Verwendung und den Nutzen der biblischen Pflanzen. Willkommen zum Sehen\, Fühlen\, Riechen Schmecken und Wissenwertes Erfahren! Wöchentlich Mittwochs\, 11 -12 Uhr\, Kostenbeitrag € 9\,-(inkl.Eintritt) Treffpunkt und Anmeldung: Bibelgalerie Meersburg\, Kirchstr. 4\, 88709 Meersburg\,  www.bibelgalerie.de
URL:https://kraeuter-bw.de/veranstaltungen/bibel-und-kraeutergarten-der-bibelgalerie-88709-meersburg-6/
LOCATION:Bibelgarten Meersburg\, Kirchstr. 4\, Meersburg\, 88709
CATEGORIES:Kräuterführung/-spaziergang
ORGANIZER;CN="Elke Hermannsdorfer":MAILTO:info@wildkraeuter-erlebnisse.de
END:VEVENT
BEGIN:VEVENT
DTSTART;TZID=Europe/Berlin:20260513T110000
DTEND;TZID=Europe/Berlin:20260513T120000
DTSTAMP:20260424T190808
CREATED:20260108T155918Z
LAST-MODIFIED:20260108T155918Z
UID:4393-1778670000-1778673600@kraeuter-bw.de
SUMMARY:Bibel-und Kräutergarten der Bibelgalerie\, 88709 Meersburg
DESCRIPTION:Elke Hermannsdorfer\, Kräuterpädagogin BNE erläutert die Verwendung und den Nutzen der biblischen Pflanzen. Willkommen zum Sehen\, Fühlen\, Riechen Schmecken und Wissenwertes Erfahren! Wöchentlich Mittwochs\, 11 -12 Uhr\, Kostenbeitrag € 9\,-(inkl.Eintritt) Treffpunkt und Anmeldung: Bibelgalerie Meersburg\, Kirchstr. 4\, 88709 Meersburg\,  www.bibelgalerie.de
URL:https://kraeuter-bw.de/veranstaltungen/bibel-und-kraeutergarten-der-bibelgalerie-88709-meersburg-7/
LOCATION:Bibelgarten Meersburg\, Kirchstr. 4\, Meersburg\, 88709
CATEGORIES:Kräuterführung/-spaziergang
ORGANIZER;CN="Elke Hermannsdorfer":MAILTO:info@wildkraeuter-erlebnisse.de
END:VEVENT
BEGIN:VEVENT
DTSTART;TZID=Europe/Berlin:20260520T110000
DTEND;TZID=Europe/Berlin:20260520T120000
DTSTAMP:20260424T190808
CREATED:20260108T155940Z
LAST-MODIFIED:20260108T155940Z
UID:4396-1779274800-1779278400@kraeuter-bw.de
SUMMARY:Bibel-und Kräutergarten der Bibelgalerie\, 88709 Meersburg
DESCRIPTION:Elke Hermannsdorfer\, Kräuterpädagogin BNE erläutert die Verwendung und den Nutzen der biblischen Pflanzen. Willkommen zum Sehen\, Fühlen\, Riechen Schmecken und Wissenwertes Erfahren! Wöchentlich Mittwochs\, 11 -12 Uhr\, Kostenbeitrag € 9\,-(inkl.Eintritt) Treffpunkt und Anmeldung: Bibelgalerie Meersburg\, Kirchstr. 4\, 88709 Meersburg\,  www.bibelgalerie.de
URL:https://kraeuter-bw.de/veranstaltungen/bibel-und-kraeutergarten-der-bibelgalerie-88709-meersburg-8/
LOCATION:Bibelgarten Meersburg\, Kirchstr. 4\, Meersburg\, 88709
CATEGORIES:Kräuterführung/-spaziergang
ORGANIZER;CN="Elke Hermannsdorfer":MAILTO:info@wildkraeuter-erlebnisse.de
END:VEVENT
BEGIN:VEVENT
DTSTART;TZID=Europe/Berlin:20260527T110000
DTEND;TZID=Europe/Berlin:20260527T120000
DTSTAMP:20260424T190808
CREATED:20260108T160003Z
LAST-MODIFIED:20260108T160003Z
UID:4399-1779879600-1779883200@kraeuter-bw.de
SUMMARY:Bibel-und Kräutergarten der Bibelgalerie\, 88709 Meersburg
DESCRIPTION:Elke Hermannsdorfer\, Kräuterpädagogin BNE erläutert die Verwendung und den Nutzen der biblischen Pflanzen. Willkommen zum Sehen\, Fühlen\, Riechen Schmecken und Wissenwertes Erfahren! Wöchentlich Mittwochs\, 11 -12 Uhr\, Kostenbeitrag € 9\,-(inkl.Eintritt) Treffpunkt und Anmeldung: Bibelgalerie Meersburg\, Kirchstr. 4\, 88709 Meersburg\,  www.bibelgalerie.de
URL:https://kraeuter-bw.de/veranstaltungen/bibel-und-kraeutergarten-der-bibelgalerie-88709-meersburg-9/
LOCATION:Bibelgarten Meersburg\, Kirchstr. 4\, Meersburg\, 88709
CATEGORIES:Kräuterführung/-spaziergang
ORGANIZER;CN="Elke Hermannsdorfer":MAILTO:info@wildkraeuter-erlebnisse.de
END:VEVENT
BEGIN:VEVENT
DTSTART;TZID=Europe/Berlin:20260530T140000
DTEND;TZID=Europe/Berlin:20260530T173000
DTSTAMP:20260424T190808
CREATED:20260108T153508Z
LAST-MODIFIED:20260108T154028Z
UID:4363-1780149600-1780162200@kraeuter-bw.de
SUMMARY:Biblische Kräuterschätze in Meersburg\, 88709 Meersburg
DESCRIPTION:Grüne Kraftquellen entdecken und genießen. Dauer: 14.00 – 17.30 Uhr. Strecke: 1\,5 km und 70 Höhenmeter. Treffpunkt: Bibel- und Kräutergarten\, Bibelgalerie Meersburg. Kirchstr. 4\, 88709 Meersburg. Kosten: 30 Euro pro Person für die geführte Kräutertour mit Kräuterpädagogin Elke Hermannsdorfer\, abschließende Einkehr beim Winzerverein Meersburg auf ein Glas Wein\, samt biblischen Fingerfood-Spezialitäten von Thomas Hermannsdorfer.\nBezahlung per Überweisung\, Kontoverbindung wird bei der Anmeldung bekannt gegeben. Anmeldung: Tourist-Information Meersburg\, \nTel.: +49(0)7532 – 440 400\nE-Mail: info@meersburg.de\nwww.kirchenerlebnis-bodensee.de
URL:https://kraeuter-bw.de/veranstaltungen/biblische-kraeuterschaetze-in-meersburg-88709-meersburg/
LOCATION:Bibelgalerie Meersburg\, Kirchstrasse 4\, Meersburg\, 88709
CATEGORIES:Kräuterführung/-spaziergang
ORGANIZER;CN="Elke Hermannsdorfer":MAILTO:info@wildkraeuter-erlebnisse.de
END:VEVENT
END:VCALENDAR