BEGIN:VCALENDAR
VERSION:2.0
PRODID:-//Kräuterpädagogen Baden-Württemberg - ECPv6.15.20//NONSGML v1.0//EN
CALSCALE:GREGORIAN
METHOD:PUBLISH
X-ORIGINAL-URL:https://kraeuter-bw.de
X-WR-CALDESC:Veranstaltungen für Kräuterpädagogen Baden-Württemberg
REFRESH-INTERVAL;VALUE=DURATION:PT1H
X-Robots-Tag:noindex
X-PUBLISHED-TTL:PT1H
BEGIN:VTIMEZONE
TZID:Europe/Berlin
BEGIN:DAYLIGHT
TZOFFSETFROM:+0100
TZOFFSETTO:+0200
TZNAME:CEST
DTSTART:20250330T010000
END:DAYLIGHT
BEGIN:STANDARD
TZOFFSETFROM:+0200
TZOFFSETTO:+0100
TZNAME:CET
DTSTART:20251026T010000
END:STANDARD
BEGIN:DAYLIGHT
TZOFFSETFROM:+0100
TZOFFSETTO:+0200
TZNAME:CEST
DTSTART:20260329T010000
END:DAYLIGHT
BEGIN:STANDARD
TZOFFSETFROM:+0200
TZOFFSETTO:+0100
TZNAME:CET
DTSTART:20261025T010000
END:STANDARD
BEGIN:DAYLIGHT
TZOFFSETFROM:+0100
TZOFFSETTO:+0200
TZNAME:CEST
DTSTART:20270328T010000
END:DAYLIGHT
BEGIN:STANDARD
TZOFFSETFROM:+0200
TZOFFSETTO:+0100
TZNAME:CET
DTSTART:20271031T010000
END:STANDARD
END:VTIMEZONE
BEGIN:VEVENT
DTSTART;TZID=Europe/Berlin:20261120T190000
DTEND;TZID=Europe/Berlin:20261120T210000
DTSTAMP:20260420T190017
CREATED:20260130T140103Z
LAST-MODIFIED:20260130T140103Z
UID:4562-1795201200-1795208400@kraeuter-bw.de
SUMMARY:Gesund & munter durch den Winter. Mit Heilkräutern und anderen Kostbarkeiten. Ein Themenabend zum Lauschen\, Schnuppern und Schmecken\, 78736 Epfendorf
DESCRIPTION:Wenn draußen Frost und Dunkelheit Einzug halten\, läuft auch unser Immunsystem auf Hochtouren. Mit der Kraft heimischer Heilpflanzen lässt sich die Abwehr wunderbar stärken\, ganz natürlich\, wirkungsvoll und wohltuend! An diesem Abend nehmen wir Euch mit auf eine wärmende Reise durch die Pflanzenwelt des Winters. Ihr erfahrt\,\n welche Kräuter und Wurzeln die Abwehrkräfte stärken\,\n welche Tees und Tinkturen bei Husten\, Schnupfen & Co. helfen\,\n warum Honig\, Knoblauch und Thymian echte „Virenschrecke“ sind\,\n und wie Senföle aus Kapuzinerkresse & Meerrettich als natürliche Antibiotika wirken.\nNeben spannenden Pflanzenporträts – von Thymian\, Spitzwegerich und Holunder bis zu Roten Sonnenhut & Co. – gibt es viele einfache Rezepte und praktische Tipps für Hausapotheke und Küche. Ihr dürft riechen\, schmecken und probieren: Aromatische Tees\, heilsame Tinkturen und kleine Immunstärkungs-Snacks erwarten Euch. \nSpeisen und Getränke sind im Preis inbegriffen.
URL:https://kraeuter-bw.de/veranstaltungen/gesund-munter-durch-den-winter-mit-heilkraeutern-und-anderen-kostbarkeiten-ein-themenabend-zum-lauschen-schnuppern-und-schmecken-78736-epfendorf-3/
LOCATION:Hofgut Ramstein 2\, Hofgut Ramstein 2\, Epfendorf\, 78736
CATEGORIES:Vortrag
ORGANIZER;CN="Stephanie van der Velden":MAILTO:hallo@purpurea.de
END:VEVENT
END:VCALENDAR