BEGIN:VCALENDAR
VERSION:2.0
PRODID:-//Kräuterpädagogen Baden-Württemberg - ECPv6.15.20//NONSGML v1.0//EN
CALSCALE:GREGORIAN
METHOD:PUBLISH
X-WR-CALNAME:Kräuterpädagogen Baden-Württemberg
X-ORIGINAL-URL:https://kraeuter-bw.de
X-WR-CALDESC:Veranstaltungen für Kräuterpädagogen Baden-Württemberg
REFRESH-INTERVAL;VALUE=DURATION:PT1H
X-Robots-Tag:noindex
X-PUBLISHED-TTL:PT1H
BEGIN:VTIMEZONE
TZID:Europe/Berlin
BEGIN:DAYLIGHT
TZOFFSETFROM:+0100
TZOFFSETTO:+0200
TZNAME:CEST
DTSTART:20250330T010000
END:DAYLIGHT
BEGIN:STANDARD
TZOFFSETFROM:+0200
TZOFFSETTO:+0100
TZNAME:CET
DTSTART:20251026T010000
END:STANDARD
BEGIN:DAYLIGHT
TZOFFSETFROM:+0100
TZOFFSETTO:+0200
TZNAME:CEST
DTSTART:20260329T010000
END:DAYLIGHT
BEGIN:STANDARD
TZOFFSETFROM:+0200
TZOFFSETTO:+0100
TZNAME:CET
DTSTART:20261025T010000
END:STANDARD
BEGIN:DAYLIGHT
TZOFFSETFROM:+0100
TZOFFSETTO:+0200
TZNAME:CEST
DTSTART:20270328T010000
END:DAYLIGHT
BEGIN:STANDARD
TZOFFSETFROM:+0200
TZOFFSETTO:+0100
TZNAME:CET
DTSTART:20271031T010000
END:STANDARD
END:VTIMEZONE
BEGIN:VEVENT
DTSTART;TZID=Europe/Berlin:20260828T190000
DTEND;TZID=Europe/Berlin:20260828T230000
DTSTAMP:20260424T140218
CREATED:20260126T092336Z
LAST-MODIFIED:20260126T092336Z
UID:4513-1787943600-1787958000@kraeuter-bw.de
SUMMARY:Vollmond. Kräuterabend am Lagerfeuer zum Spätsommervollmond\,75335 Dobel
DESCRIPTION:Vorgestellt werden heimische Gewächse\, die wir zum Räuchern nutzen können\, verbunden mit den ursprünglichen Ritualen im Jahreskreislauf. Das Ganze wird verfeinert mit kleinen\, herrlichen Sommergenüssen. \nTreffpunkt wird nach Anmeldung bekannt gegeben.
URL:https://kraeuter-bw.de/veranstaltungen/vollmond-kraeuterabend-am-lagerfeuer-zum-spaetsommervollmond75335-dobel/
LOCATION:75335 Dobel\, Dobel\, 75335
CATEGORIES:Event
ORGANIZER;CN="Antje Mieves":MAILTO:antje@waldkraeuterei.de
END:VEVENT
END:VCALENDAR