BEGIN:VCALENDAR
VERSION:2.0
PRODID:-//Kräuterpädagogen Baden-Württemberg - ECPv6.15.20//NONSGML v1.0//EN
CALSCALE:GREGORIAN
METHOD:PUBLISH
X-ORIGINAL-URL:https://kraeuter-bw.de
X-WR-CALDESC:Veranstaltungen für Kräuterpädagogen Baden-Württemberg
REFRESH-INTERVAL;VALUE=DURATION:PT1H
X-Robots-Tag:noindex
X-PUBLISHED-TTL:PT1H
BEGIN:VTIMEZONE
TZID:Europe/Berlin
BEGIN:DAYLIGHT
TZOFFSETFROM:+0100
TZOFFSETTO:+0200
TZNAME:CEST
DTSTART:20250330T010000
END:DAYLIGHT
BEGIN:STANDARD
TZOFFSETFROM:+0200
TZOFFSETTO:+0100
TZNAME:CET
DTSTART:20251026T010000
END:STANDARD
BEGIN:DAYLIGHT
TZOFFSETFROM:+0100
TZOFFSETTO:+0200
TZNAME:CEST
DTSTART:20260329T010000
END:DAYLIGHT
BEGIN:STANDARD
TZOFFSETFROM:+0200
TZOFFSETTO:+0100
TZNAME:CET
DTSTART:20261025T010000
END:STANDARD
BEGIN:DAYLIGHT
TZOFFSETFROM:+0100
TZOFFSETTO:+0200
TZNAME:CEST
DTSTART:20270328T010000
END:DAYLIGHT
BEGIN:STANDARD
TZOFFSETFROM:+0200
TZOFFSETTO:+0100
TZNAME:CET
DTSTART:20271031T010000
END:STANDARD
END:VTIMEZONE
BEGIN:VEVENT
DTSTART;TZID=Europe/Berlin:20260704T100000
DTEND;TZID=Europe/Berlin:20260704T120000
DTSTAMP:20260424T140324
CREATED:20260222T161226Z
LAST-MODIFIED:20260222T161226Z
UID:4731-1783159200-1783166400@kraeuter-bw.de
SUMMARY:Essbare Blüten im Sommer “Dekorativ\, aromatisch\, bunt!” - 72119 Ammerbuch
DESCRIPTION:Attraktiv und farbenfroh\, so präsentiert sich die heimische Blütenwelt im Juni/Juli. Wir machen einen Blütenspaziergang\, der alle unsere Sinne anspricht. Im Anschluss können Sie Ihr eigenes Blütenquark-Brot dekorieren und verzehren. Dazu gibt es noch mehr Wissenswertes aus der feinen Blütenküche und Rezepte für zu Hause. \nAnmeldung bitte per Email oder Telefon: Weiss.Anja@mein.gmx / 07032-7998819. Kinder in Begleitung Erwachsener gehen kostenfrei mit.
URL:https://kraeuter-bw.de/veranstaltungen/essbare-blueten-im-sommer-dekorativ-aromatisch-bunt-72119-ammerbuch-2/
LOCATION:Parkplatz Kinderhaus Ammerbuch Entringen\, Alemannenweg 15\, Ammerbuch\, 72119
CATEGORIES:Kräuterführung/-spaziergang
ORGANIZER;CN="Anja Wei%C3%9F":MAILTO:Weiss.Anja@mein.gmx
END:VEVENT
END:VCALENDAR