BEGIN:VCALENDAR
VERSION:2.0
PRODID:-//Kräuterpädagogen Baden-Württemberg - ECPv6.15.20//NONSGML v1.0//EN
CALSCALE:GREGORIAN
METHOD:PUBLISH
X-WR-CALNAME:Kräuterpädagogen Baden-Württemberg
X-ORIGINAL-URL:https://kraeuter-bw.de
X-WR-CALDESC:Veranstaltungen für Kräuterpädagogen Baden-Württemberg
REFRESH-INTERVAL;VALUE=DURATION:PT1H
X-Robots-Tag:noindex
X-PUBLISHED-TTL:PT1H
BEGIN:VTIMEZONE
TZID:Europe/Berlin
BEGIN:DAYLIGHT
TZOFFSETFROM:+0100
TZOFFSETTO:+0200
TZNAME:CEST
DTSTART:20250330T010000
END:DAYLIGHT
BEGIN:STANDARD
TZOFFSETFROM:+0200
TZOFFSETTO:+0100
TZNAME:CET
DTSTART:20251026T010000
END:STANDARD
BEGIN:DAYLIGHT
TZOFFSETFROM:+0100
TZOFFSETTO:+0200
TZNAME:CEST
DTSTART:20260329T010000
END:DAYLIGHT
BEGIN:STANDARD
TZOFFSETFROM:+0200
TZOFFSETTO:+0100
TZNAME:CET
DTSTART:20261025T010000
END:STANDARD
BEGIN:DAYLIGHT
TZOFFSETFROM:+0100
TZOFFSETTO:+0200
TZNAME:CEST
DTSTART:20270328T010000
END:DAYLIGHT
BEGIN:STANDARD
TZOFFSETFROM:+0200
TZOFFSETTO:+0100
TZNAME:CET
DTSTART:20271031T010000
END:STANDARD
END:VTIMEZONE
BEGIN:VEVENT
DTSTART;TZID=Europe/Berlin:20260425T090000
DTEND;TZID=Europe/Berlin:20260425T140000
DTSTAMP:20260425T013044
CREATED:20251106T155050Z
LAST-MODIFIED:20251106T155050Z
UID:4159-1777107600-1777125600@kraeuter-bw.de
SUMMARY:Wilde Kräuter - Wilde Küche\, 71364 Winnenden
DESCRIPTION:Wildkräuter finden auf vielfältige Weise in der Küche Verwendung. Mit ihrer Vielzahl an unterschiedlichen Aromen bringen sie Abwechslung und Schwung in die Küche\, sind gesund und regen zum Experimentieren an. Zu Beginn werden die Wildkräuter bei einem kleinen Spaziergang im Zipfelbachtal an ihren natürlichen Standorten vorgestellt und unter Anleitung geerntet. Danach betreiben wir „Wilde Küche“: In der Lehrküche der nahen Albertville-Realschule bereiten wir leckere Speisen aus den gesammelten Wildkräutern und Blüten her und verkosten diese gemeinsam. Lassen Sie sich überraschen und lernen Sie völlig neue\nGeschmackshorizonte kennen! Bitte mitbringen: Taschenmesser\, Stoffbeutel oder Korb für das Sammelgut. In Zusammenarbeit mit der Volkshochschule Winnenden. Treffpunkt: Winnenden\, Wanderparkplatz Zipfelbachtal (gegenüber Wohnmobil-Stellplatz\, Winnenden). Anmeldung über: https://www.ars-herbaria.net/ Kosten : 35 € + 7 € Materialgeld
URL:https://kraeuter-bw.de/veranstaltungen/wilde-kraeuter-wilde-kueche-71364-winnenden/
LOCATION:Wanderparkplatz Zipfelbachtal\, Hanweiler Straße\, Winnenden\, 71364
CATEGORIES:Kochkurs,Kräuterführung/-spaziergang,Workshop / Seminar
END:VEVENT
BEGIN:VEVENT
DTSTART;TZID=Europe/Berlin:20260425T110000
DTEND;TZID=Europe/Berlin:20260425T130000
DTSTAMP:20260425T013044
CREATED:20260305T083108Z
LAST-MODIFIED:20260305T083108Z
UID:4779-1777114800-1777122000@kraeuter-bw.de
SUMMARY:Wildkräuterspaziergang- Nutzen heimischer Wildkräuter entdecken\, 74080 Heilbronn
DESCRIPTION:Bei einem Spaziergang durch den Ziegeleipark erhalten die Teilnehmenden viele interessante Informationen über heimische Wildpflanzen. Die Kräuterpädagogin Daniela Somers zeigt\, wie man die wichtigsten Wildkräuter sicher erkennt\, welche davon genutzt werden können und welche essbar sind. Sie erklärt ausführlich die Inhaltsstoffe\, die traditionelle Verwendung und Wirkung der Pflanzen sowie Möglichkeiten\, sie heute in der Küche zu verwenden und in alltägliche Mahlzeiten zu integrieren. Treffpunkt: Ziegeleipark\, Parkplatz\, Heuchelbergstraße 94. \nAnmeldung über Haus der Familie Heilbronn. Kursnummer: 262H401001
URL:https://kraeuter-bw.de/veranstaltungen/wildkraeuterspaziergang-nutzen-heimischer-wildkraeuter-entdecken-74080-heilbronn/
LOCATION:74080 Heilbronn Böckingen Ziegeleipark\, Parkplatz Heuchelbergstrasse 94\, Heilbronn-Böckingen\, 74080
CATEGORIES:Kräuterführung/-spaziergang
ORGANIZER;CN="Daniela Somers":MAILTO:soda66@gmx.de
END:VEVENT
BEGIN:VEVENT
DTSTART;TZID=Europe/Berlin:20260425T140000
DTEND;TZID=Europe/Berlin:20260425T180000
DTSTAMP:20260425T013044
CREATED:20260130T141014Z
LAST-MODIFIED:20260130T141014Z
UID:4565-1777125600-1777140000@kraeuter-bw.de
SUMMARY:Wildes Grün am Wegesrand. Heimische Wildpflanzen auf der „Paradiestour“ Schlichemtal entdecken\, 78736 Epfendorf
DESCRIPTION:Begleite mich auf eine Kräuterwanderung durch die beeindruckende Schlichemklamm bei Epfendorf – ein „Natura 2000“-Gebiet voller botanischer Schätze. Zwischen steilen Felswänden\, feuchten Schluchtwäldern und sonnigen Magerrasen wachsen hier unzählige heimische Wildpflanzen: vom zarten Leberblümchen und würzigen Bärlauch über Gundermann und Waldmeister bis\nhin zu Giersch\, Dost und Flockenblume. Du erfährst\, welche Pflanzen hier typische Lebensgemeinschaften bilden\, wie sie sich an ihre besonderen Standorte angepasst haben und welche Heil- und Nutzungsmöglichkeiten sie bieten. Neben spannenden Geschichten aus der Kräutertradition bekommst du viele praktische Tipps zum Erkennen und Verarbeiten. Ein gemeinsamer Streifzug durch das Schlichemtal\, bei dem du Wildpflanzen in ihrem natürlichen Lebensraum kennenlernst.\nBITTE BEACHTE: Wir werden auf den ausgewiesenen Wegen bleiben und diese nicht verlassen. Im „Natura 2000“-Gebiet sammeln wir keine Pflanzen\, sondern lernen\, sie zu erkennen. \nTreffpunkt: Sportplatz in 78736 Epfendorf
URL:https://kraeuter-bw.de/veranstaltungen/wildes-gruen-am-wegesrand-heimische-wildpflanzen-auf-der-paradiestour-schlichemtal-entdecken-78736-epfendorf/
LOCATION:78736 Epfendorf\, Sportplatz\, Epfendorf\, 78736
CATEGORIES:Kräuterführung/-spaziergang
ORGANIZER;CN="Stephanie van der Velden":MAILTO:hallo@purpurea.de
END:VEVENT
END:VCALENDAR